BEGIN:VCALENDAR
VERSION:2.0
PRODID:-//MTASA - ECPv6.15.16//NONSGML v1.0//EN
CALSCALE:GREGORIAN
METHOD:PUBLISH
X-WR-CALNAME:MTASA
X-ORIGINAL-URL:https://mtasa.com.au
X-WR-CALDESC:Events for MTASA
REFRESH-INTERVAL;VALUE=DURATION:PT1H
X-Robots-Tag:noindex
X-PUBLISHED-TTL:PT1H
BEGIN:VTIMEZONE
TZID:UTC
BEGIN:STANDARD
TZOFFSETFROM:+0000
TZOFFSETTO:+0000
TZNAME:UTC
DTSTART:20210101T000000
END:STANDARD
END:VTIMEZONE
BEGIN:VEVENT
DTSTART;TZID=UTC:20221113T173000
DTEND;TZID=UTC:20221113T180000
DTSTAMP:20260421T151953
CREATED:20220605T061753Z
LAST-MODIFIED:20220727T113755Z
UID:6475-1668360600-1668362400@mtasa.com.au
SUMMARY:2022 AGM
DESCRIPTION:Register for AGM\nDear MTASA members \nYou are warmly invited to the MTASA AGM\, where you get to have your say in future directions for the MTASA\, nominate\, and find out how we have been travelling in this extraordinary year! \nDate: Sunday13 November\nTime: 5.30pm\nVenue: Saint Spyridon College\, 52 Oxford Terrace\, Unley \nImmediately after the AGM\, please come down the street to La Scala Cafe (169 Unley Rd\, Unley) to grab a meal if you like\, and join us in enjoying a birthday cake for our 90th birthday. \n\n\n\n\n\n\n\n\n\n\n\n\n\n\n\n\n\n\n\n\n\n\n\n\n\n\n\n\n\n\n\n\n\n\n\n\nSofie Arhontoulis\nPresident\, MTASA
URL:https://mtasa.com.au/event/2022-agm/
LOCATION:St Spyridon College\, 52 Oxford Tce\, Unley\, SA\, 5061\, Australia
ATTACH;FMTTYPE=image/png:https://mtasa.com.au/wp-content/uploads/2022/06/2022-AGM-Eventbrite.png
ORGANIZER;CN="Music Teachers Association of SA Inc.":MAILTO:info@mtasa.com.au
END:VEVENT
END:VCALENDAR