BEGIN:VCALENDAR
VERSION:2.0
PRODID:-//MTASA - ECPv6.15.16//NONSGML v1.0//EN
CALSCALE:GREGORIAN
METHOD:PUBLISH
X-WR-CALNAME:MTASA
X-ORIGINAL-URL:https://mtasa.com.au
X-WR-CALDESC:Events for MTASA
REFRESH-INTERVAL;VALUE=DURATION:PT1H
X-Robots-Tag:noindex
X-PUBLISHED-TTL:PT1H
BEGIN:VTIMEZONE
TZID:UTC
BEGIN:STANDARD
TZOFFSETFROM:+0000
TZOFFSETTO:+0000
TZNAME:UTC
DTSTART:20210101T000000
END:STANDARD
END:VTIMEZONE
BEGIN:VEVENT
DTSTART;TZID=UTC:20221029T090000
DTEND;TZID=UTC:20221029T170000
DTSTAMP:20260421T115533
CREATED:20220605T055851Z
LAST-MODIFIED:20220904T104229Z
UID:6469-1667034000-1667062800@mtasa.com.au
SUMMARY:2022 The MTASA Competition Day
DESCRIPTION:Enrol Competitors HERE \nThe Reimann-Robinson Scholarship is open to all instrumental/vocal students of any member of the MTASA who are teaching in a private capacity. Open to students who are 18 years or under on the closing day of entry to the Scholarship.  \nThe Norman Sellick Memorial Prize is open to all instrumental/vocal students of any member of the MTASA who are teaching in a private capacity. Open to students who are 12 years or under on the closing day of entries to the competition. \nEntry closes on 30 September 2022 \n2022 Competitions Day application PDF DOWNLOAD
URL:https://mtasa.com.au/event/2022-the-mtasa-competition-day/
LOCATION:Flinders Street Baptist Church\, 65 Flinders St\, Adelaide\, SA\, 5000\, Australia
ATTACH;FMTTYPE=image/png:https://mtasa.com.au/wp-content/uploads/2022/06/Competition-Day-2022-1.png
ORGANIZER;CN="Music Teachers Association of SA Inc.":MAILTO:info@mtasa.com.au
END:VEVENT
END:VCALENDAR