BEGIN:VCALENDAR
VERSION:2.0
PRODID:-//MTASA - ECPv6.15.16//NONSGML v1.0//EN
CALSCALE:GREGORIAN
METHOD:PUBLISH
X-WR-CALNAME:MTASA
X-ORIGINAL-URL:https://mtasa.com.au
X-WR-CALDESC:Events for MTASA
REFRESH-INTERVAL;VALUE=DURATION:PT1H
X-Robots-Tag:noindex
X-PUBLISHED-TTL:PT1H
BEGIN:VTIMEZONE
TZID:UTC
BEGIN:STANDARD
TZOFFSETFROM:+0000
TZOFFSETTO:+0000
TZNAME:UTC
DTSTART:20220101T000000
END:STANDARD
END:VTIMEZONE
BEGIN:VEVENT
DTSTART;TZID=UTC:20230125T090000
DTEND;TZID=UTC:20230125T173000
DTSTAMP:20260421T165503
CREATED:20230116T040754Z
LAST-MODIFIED:20230116T040754Z
UID:6579-1674637200-1674667800@mtasa.com.au
SUMMARY:2023 MTASA Summer Professional Learning Day
DESCRIPTION:Reading music: cherished skill or formidable barrier for students? \nTICKETS HERE \n 
URL:https://mtasa.com.au/event/2023-mtasa-summer-professional-learning-day/
LOCATION:Hartley Concert Room\, Level 1\, Hartley Building\, The University of Adelaide\, SA\, 5005\, Australia
ORGANIZER;CN="Music Teachers Association of SA Inc.":MAILTO:info@mtasa.com.au
END:VEVENT
END:VCALENDAR